

BEGIN:VCALENDAR
VERSION:2.0
PRODID:-//bMOREsafe Mercy - ECPv4.9.14//NONSGML v1.0//EN
CALSCALE:GREGORIAN
METHOD:PUBLISH
X-WR-CALNAME:bMOREsafe Mercy
X-ORIGINAL-URL:https://bmoresafemercy.org
X-WR-CALDESC:Events for bMOREsafe Mercy
BEGIN:VTIMEZONE
TZID:UTC
BEGIN:STANDARD
TZOFFSETFROM:+0000
TZOFFSETTO:+0000
TZNAME:UTC
DTSTART:20250101T000000
END:STANDARD
END:VTIMEZONE
BEGIN:VEVENT
DTSTART;TZID=UTC:20250130T110000
DTEND;TZID=UTC:20250130T140000
DTSTAMP:20260421T175103
CREATED:20250117T183731Z
LAST-MODIFIED:20250117T183731Z
UID:4268-1738234800-1738245600@bmoresafemercy.org
SUMMARY:Red Sand Project
DESCRIPTION:Today\, over 50 million people worldwide are being trafficked or live in modern slavery.\nRed Sand Project is a participatory artwork created by Molly Gochman that uses sidewalk interventions and earthwork installations to create opportunities for people to question\, connect and take action against vulnerabilities that can lead to human trafficking\, modern slavery\, and exploitation. \nMercy Forensic Nursing\, along with our Baltimore City Human Trafficking Collaborative\, will be holding a Red Sand Project event to raise awareness of Human Trafficking. \n
URL:https://bmoresafemercy.org/event/red-sand-project/
ATTACH;FMTTYPE=image/png:https://bmoresafemercy.org/wp-content/uploads/2025/01/Red-Sand-Project.png
END:VEVENT
END:VCALENDAR