

BEGIN:VCALENDAR
VERSION:2.0
PRODID:-//bMOREsafe Mercy - ECPv4.9.14//NONSGML v1.0//EN
CALSCALE:GREGORIAN
METHOD:PUBLISH
X-WR-CALNAME:bMOREsafe Mercy
X-ORIGINAL-URL:https://bmoresafemercy.org
X-WR-CALDESC:Events for bMOREsafe Mercy
BEGIN:VTIMEZONE
TZID:UTC
BEGIN:STANDARD
TZOFFSETFROM:+0000
TZOFFSETTO:+0000
TZNAME:UTC
DTSTART:20230101T000000
END:STANDARD
END:VTIMEZONE
BEGIN:VEVENT
DTSTART;TZID=UTC:20230807T080000
DTEND;TZID=UTC:20230808T163000
DTSTAMP:20260421T224417
CREATED:20221114T155820Z
LAST-MODIFIED:20221114T155820Z
UID:4058-1691395200-1691512200@bmoresafemercy.org
SUMMARY:Forensic Nurse Examiner Training - August 2023
DESCRIPTION:\n\nCost\n$350 if mailing a check\n$360 if using paypal\n\n\nNotes\nIn addition to 16 hours of in person content\, each training will include 24 hours of online content that students will be responsible for completing prior to beginning the classroom training and clinical components of the FNE-A curriculum as indicated by the Maryland Board of Nursing. More information on accessing and completing the online training will be available to registered participants.\n\nPlease click the below link to download the FNE-A registration form. Check your computer download folder if you are unable to find the form.\nEmail the course registrar Allyson Boss\, aboss@mdmercy for any questions\n\nDownload Registration Form by Check\n
URL:https://bmoresafemercy.org/event/forensic-nurse-examiner-training-august-2023/
LOCATION:bMOREsafe Mercy\, 301 Saint Paul Place\, Baltimore\, MD\, 21202\, United States
ATTACH;FMTTYPE=image/jpeg:https://bmoresafemercy.org/wp-content/uploads/2020/01/bMore.jpg
END:VEVENT
END:VCALENDAR