

BEGIN:VCALENDAR
VERSION:2.0
PRODID:-//bMOREsafe Mercy - ECPv4.9.14//NONSGML v1.0//EN
CALSCALE:GREGORIAN
METHOD:PUBLISH
X-WR-CALNAME:bMOREsafe Mercy
X-ORIGINAL-URL:https://bmoresafemercy.org
X-WR-CALDESC:Events for bMOREsafe Mercy
BEGIN:VTIMEZONE
TZID:UTC
BEGIN:STANDARD
TZOFFSETFROM:+0000
TZOFFSETTO:+0000
TZNAME:UTC
DTSTART:20260101T000000
END:STANDARD
END:VTIMEZONE
BEGIN:VEVENT
DTSTART;TZID=UTC:20260430T080000
DTEND;TZID=UTC:20260430T163000
DTSTAMP:20260421T161051
CREATED:20260320T141635Z
LAST-MODIFIED:20260320T141635Z
UID:11559-1777536000-1777566600@bmoresafemercy.org
SUMMARY:B'More Healthcare Human Trafficking Symposium
DESCRIPTION:Join us for a day of informative and interactive sessions with leaders in human trafficking response: healthcare personnel\, social services\, public safety\, support organizations\, and survivors sharing their own journeys. \nThe registration for this FREE! There will also be FREE parking\, FREE lunches\, and FREE Ceus for Nursing\, Social Work\, and EMS! \nWe hope to see you there! \nPlease register here: Registration Link \n
URL:https://bmoresafemercy.org/event/bmore-healthcare-human-trafficking-symposium-2/
LOCATION:Harbor Hospital\, 3001 S Hanover St\, Baltimore\, MD\, 21225\, United States
ATTACH;FMTTYPE=image/jpeg:https://bmoresafemercy.org/wp-content/uploads/2026/03/Symposium-2026.jpg
END:VEVENT
END:VCALENDAR