

BEGIN:VCALENDAR
VERSION:2.0
PRODID:-//bMOREsafe Mercy - ECPv4.9.14//NONSGML v1.0//EN
CALSCALE:GREGORIAN
METHOD:PUBLISH
X-WR-CALNAME:bMOREsafe Mercy
X-ORIGINAL-URL:https://bmoresafemercy.org
X-WR-CALDESC:Events for bMOREsafe Mercy
BEGIN:VTIMEZONE
TZID:UTC
BEGIN:STANDARD
TZOFFSETFROM:+0000
TZOFFSETTO:+0000
TZNAME:UTC
DTSTART:20240101T000000
END:STANDARD
END:VTIMEZONE
BEGIN:VEVENT
DTSTART;TZID=UTC:20240316T190000
DTEND;TZID=UTC:20240316T230000
DTSTAMP:20260421T193556
CREATED:20230925T135137Z
LAST-MODIFIED:20240112T132410Z
UID:4177-1710615600-1710630000@bmoresafemercy.org
SUMMARY:30th Anniversary Bull & Oyster Roast
DESCRIPTION:Join us for a night of fun\, food and entertainment to celebrate our 30th Anniversary! \nWhere: Columbus Gardens 4301 Klosterman Ave Nottingham\, MD 21236 \nAll you can eat: Top Round of Beef\, Virginia Baked Honey Ham\, Seasoned Turkey Breast\, Oysters on\nthe Half Shell\, Taco Bar\, Kielbasa & Sauerkraut\, BBQ Chicken\, Shrimp Creole\,\nMacaroni & Cheese\, Yellow Corn\, Garlic Mashed Potatoes\, Cold Cuts\, Cole Slaw\,\nPotato Salad\, Macaroni Salad\, Fresh Salad Bar\, Maryland Crab Soup\, and Sheet Cakes \nAll you can drink: Coors Light\, Miller Lite\, Budweiser\, Bud Light on tap; Drink Set-Ups: Coke\, Diet Coke\,\nSprite\, Diet Sprite\, Ginger Ale\, Tonic\, Iced Tea\, and Pink Lemonade. Bring Your Own\nBottle! \nEntertainment: DJ\, Dancing\, Door Prizes\, Silent Auction\, 50/50 Raffle\, Wine Pull\, and more! \nFor tickets\, please call 410-332-9494\, email cynthiamiddlestadt@hotmail.com or scan the QR code in this link Ticket Purchase \nMercy Medical Center’s Forensic Nursing Program has been caring for victims of abuse and violence in\nthe Baltimore area for the past 30 years. The program relies largely on grants and donations to fund\nthese services. Proceeds from this charity event will go directly towards provisions of these services to\nthe Baltimore community. Thank you for your continued support! \nBull Roast Flyer 2024  \n
URL:https://bmoresafemercy.org/event/30th-anniversary-bull-oyster-roast/
ATTACH;FMTTYPE=image/jpeg:https://bmoresafemercy.org/wp-content/uploads/2023/09/Bull-Roast-Flyer-2024-final.jpg
END:VEVENT
END:VCALENDAR